BEGIN:VCALENDAR
VERSION:2.0
PRODID:-//Dino Covelli - ECPv6.15.20//NONSGML v1.0//EN
CALSCALE:GREGORIAN
METHOD:PUBLISH
X-WR-CALNAME:Dino Covelli
X-ORIGINAL-URL:https://dinocovelli.com
X-WR-CALDESC:Events for Dino Covelli
REFRESH-INTERVAL;VALUE=DURATION:PT1H
X-Robots-Tag:noindex
X-PUBLISHED-TTL:PT1H
BEGIN:VTIMEZONE
TZID:America/New_York
BEGIN:DAYLIGHT
TZOFFSETFROM:-0500
TZOFFSETTO:-0400
TZNAME:EDT
DTSTART:20220313T070000
END:DAYLIGHT
BEGIN:STANDARD
TZOFFSETFROM:-0400
TZOFFSETTO:-0500
TZNAME:EST
DTSTART:20221106T060000
END:STANDARD
BEGIN:DAYLIGHT
TZOFFSETFROM:-0500
TZOFFSETTO:-0400
TZNAME:EDT
DTSTART:20230312T070000
END:DAYLIGHT
BEGIN:STANDARD
TZOFFSETFROM:-0400
TZOFFSETTO:-0500
TZNAME:EST
DTSTART:20231105T060000
END:STANDARD
BEGIN:DAYLIGHT
TZOFFSETFROM:-0500
TZOFFSETTO:-0400
TZNAME:EDT
DTSTART:20240310T070000
END:DAYLIGHT
BEGIN:STANDARD
TZOFFSETFROM:-0400
TZOFFSETTO:-0500
TZNAME:EST
DTSTART:20241103T060000
END:STANDARD
BEGIN:DAYLIGHT
TZOFFSETFROM:-0500
TZOFFSETTO:-0400
TZNAME:EDT
DTSTART:20250309T070000
END:DAYLIGHT
BEGIN:STANDARD
TZOFFSETFROM:-0400
TZOFFSETTO:-0500
TZNAME:EST
DTSTART:20251102T060000
END:STANDARD
END:VTIMEZONE
BEGIN:VEVENT
DTSTART;TZID=America/New_York:20230708T000000
DTEND;TZID=America/New_York:20230708T000000
DTSTAMP:20260422T080948
CREATED:20250921T210229Z
LAST-MODIFIED:20250922T041521Z
UID:6411-1688774400-1688774400@dinocovelli.com
SUMMARY:Private Party w/ Jake And The Mountain Men
DESCRIPTION:
URL:https://dinocovelli.com/show/__trashed-44/
CATEGORIES:Live Show
END:VEVENT
BEGIN:VEVENT
DTSTART;TZID=America/New_York:20230726T000000
DTEND;TZID=America/New_York:20230726T000000
DTSTAMP:20260422T080948
CREATED:20250921T210229Z
LAST-MODIFIED:20250922T041521Z
UID:6406-1690329600-1690329600@dinocovelli.com
SUMMARY:Ricky Blues Band @ Carroll Park
DESCRIPTION:The Town of Mt. Pleasant Presents:  \nConcerts In The Park\nFeaturing Ricky Blues Band
URL:https://dinocovelli.com/show/__trashed-51/
CATEGORIES:Live Show
END:VEVENT
BEGIN:VEVENT
DTSTART;TZID=America/New_York:20240108T000000
DTEND;TZID=America/New_York:20240108T000000
DTSTAMP:20260422T080948
CREATED:20250921T210228Z
LAST-MODIFIED:20250922T041522Z
UID:6418-1704672000-1704672000@dinocovelli.com
SUMMARY:The History Of Rock @ The Red Lion
DESCRIPTION:
URL:https://dinocovelli.com/show/__trashed-34/
CATEGORIES:Live Show
END:VEVENT
BEGIN:VEVENT
DTSTART;TZID=America/New_York:20231216T000000
DTEND;TZID=America/New_York:20231216T000000
DTSTAMP:20260422T080948
CREATED:20250921T210228Z
LAST-MODIFIED:20250922T041522Z
UID:6427-1702684800-1702684800@dinocovelli.com
SUMMARY:Ricky Blues Band
DESCRIPTION:Ricky Blues Band @ Grace Hall
URL:https://dinocovelli.com/show/__trashed-31/
CATEGORIES:Live Show
END:VEVENT
BEGIN:VEVENT
DTSTART;TZID=America/New_York:20231024T000000
DTEND;TZID=America/New_York:20231024T000000
DTSTAMP:20260422T080948
CREATED:20250921T210228Z
LAST-MODIFIED:20250922T041522Z
UID:6423-1698105600-1698105600@dinocovelli.com
SUMMARY:The History Of Rock @ The Red Lion
DESCRIPTION:
URL:https://dinocovelli.com/show/__trashed-32/
CATEGORIES:Live Show
END:VEVENT
END:VCALENDAR