BEGIN:VCALENDAR
VERSION:2.0
PRODID:-//Dino Covelli - ECPv6.15.20//NONSGML v1.0//EN
CALSCALE:GREGORIAN
METHOD:PUBLISH
X-WR-CALNAME:Dino Covelli
X-ORIGINAL-URL:https://dinocovelli.com
X-WR-CALDESC:Events for Dino Covelli
REFRESH-INTERVAL;VALUE=DURATION:PT1H
X-Robots-Tag:noindex
X-PUBLISHED-TTL:PT1H
BEGIN:VTIMEZONE
TZID:America/New_York
BEGIN:DAYLIGHT
TZOFFSETFROM:-0500
TZOFFSETTO:-0400
TZNAME:EDT
DTSTART:20180311T070000
END:DAYLIGHT
BEGIN:STANDARD
TZOFFSETFROM:-0400
TZOFFSETTO:-0500
TZNAME:EST
DTSTART:20181104T060000
END:STANDARD
BEGIN:DAYLIGHT
TZOFFSETFROM:-0500
TZOFFSETTO:-0400
TZNAME:EDT
DTSTART:20190310T070000
END:DAYLIGHT
BEGIN:STANDARD
TZOFFSETFROM:-0400
TZOFFSETTO:-0500
TZNAME:EST
DTSTART:20191103T060000
END:STANDARD
BEGIN:DAYLIGHT
TZOFFSETFROM:-0500
TZOFFSETTO:-0400
TZNAME:EDT
DTSTART:20200308T070000
END:DAYLIGHT
BEGIN:STANDARD
TZOFFSETFROM:-0400
TZOFFSETTO:-0500
TZNAME:EST
DTSTART:20201101T060000
END:STANDARD
BEGIN:DAYLIGHT
TZOFFSETFROM:-0500
TZOFFSETTO:-0400
TZNAME:EDT
DTSTART:20210314T070000
END:DAYLIGHT
BEGIN:STANDARD
TZOFFSETFROM:-0400
TZOFFSETTO:-0500
TZNAME:EST
DTSTART:20211107T060000
END:STANDARD
BEGIN:DAYLIGHT
TZOFFSETFROM:-0500
TZOFFSETTO:-0400
TZNAME:EDT
DTSTART:20220313T070000
END:DAYLIGHT
BEGIN:STANDARD
TZOFFSETFROM:-0400
TZOFFSETTO:-0500
TZNAME:EST
DTSTART:20221106T060000
END:STANDARD
BEGIN:DAYLIGHT
TZOFFSETFROM:-0500
TZOFFSETTO:-0400
TZNAME:EDT
DTSTART:20230312T070000
END:DAYLIGHT
BEGIN:STANDARD
TZOFFSETFROM:-0400
TZOFFSETTO:-0500
TZNAME:EST
DTSTART:20231105T060000
END:STANDARD
END:VTIMEZONE
BEGIN:VEVENT
DTSTART;TZID=America/New_York:20190808T000000
DTEND;TZID=America/New_York:20190808T000000
DTSTAMP:20260421T100115
CREATED:20250921T210231Z
LAST-MODIFIED:20250922T041502Z
UID:6373-1565222400-1565222400@dinocovelli.com
SUMMARY:Live Show w/ Ricky Blues Band
DESCRIPTION:The Town of Mt. Pleasant Presents:  \nConcerts In The Park\nFeaturing The Ricky Blues Band
URL:https://dinocovelli.com/show/__trashed-83/
CATEGORIES:Live Show
END:VEVENT
BEGIN:VEVENT
DTSTART;TZID=America/New_York:20211002T000000
DTEND;TZID=America/New_York:20211002T000000
DTSTAMP:20260421T100115
CREATED:20250921T210230Z
LAST-MODIFIED:20250922T041502Z
UID:6384-1633132800-1633132800@dinocovelli.com
SUMMARY:Private Party w/ Jake And The Mountain Men
DESCRIPTION:
URL:https://dinocovelli.com/show/__trashed-71/
CATEGORIES:Live Show
END:VEVENT
BEGIN:VEVENT
DTSTART;TZID=America/New_York:20211009T000000
DTEND;TZID=America/New_York:20211009T000000
DTSTAMP:20260421T100115
CREATED:20250921T210230Z
LAST-MODIFIED:20250922T041503Z
UID:6385-1633737600-1633737600@dinocovelli.com
SUMMARY:3nd Annual Anthony Packes Memorial
DESCRIPTION:Live Music / Raffles / Food / BYOB \nBands/Artists performing include: \nThe Last Minute Soulmates | The Ron Wilson Band | Mike Williams | Amy King and Tom Bater | Mike Bram | Dave Casale | The Ricky Blues Band \n…and other special guests!
URL:https://dinocovelli.com/show/__trashed-70/
CATEGORIES:Live Show
END:VEVENT
BEGIN:VEVENT
DTSTART;TZID=America/New_York:20210804T000000
DTEND;TZID=America/New_York:20210804T000000
DTSTAMP:20260421T100115
CREATED:20250921T210230Z
LAST-MODIFIED:20250922T041502Z
UID:6380-1628035200-1628035200@dinocovelli.com
SUMMARY:Live Show w/ Ricky Blues Band
DESCRIPTION:SPECIAL NOTE: I will not be performing with Ricky Blues Band tonight. But the show goes on! \nThe Town of Mt. Pleasant Presents:  \nConcerts In The Park\nFeaturing The Ricky Blues Band
URL:https://dinocovelli.com/show/__trashed-73/
CATEGORIES:Live Show
END:VEVENT
BEGIN:VEVENT
DTSTART;TZID=America/New_York:20220205T000000
DTEND;TZID=America/New_York:20220205T000000
DTSTAMP:20260421T100115
CREATED:20250921T210230Z
LAST-MODIFIED:20250922T041503Z
UID:6386-1644019200-1644019200@dinocovelli.com
SUMMARY:Private Party w/ Ricky Blues Band
DESCRIPTION:
URL:https://dinocovelli.com/show/__trashed-68/
CATEGORIES:Live Show
END:VEVENT
BEGIN:VEVENT
DTSTART;TZID=America/New_York:20211203T040000
DTEND;TZID=America/New_York:20211203T040000
DTSTAMP:20260421T100115
CREATED:20250921T210230Z
LAST-MODIFIED:20250922T041503Z
UID:6387-1638504000-1638504000@dinocovelli.com
SUMMARY:Private Party w/ Jake And The Mountain Men
DESCRIPTION:
URL:https://dinocovelli.com/show/__trashed-69/
CATEGORIES:Live Show
END:VEVENT
BEGIN:VEVENT
DTSTART;TZID=America/New_York:20220429T000000
DTEND;TZID=America/New_York:20220429T000000
DTSTAMP:20260421T100115
CREATED:20250921T210230Z
LAST-MODIFIED:20250922T041503Z
UID:6390-1651190400-1651190400@dinocovelli.com
SUMMARY:The Music of Pink Floyd feat. JT Curtis
DESCRIPTION:$15 advance\, $18 day of show \nDoors: 5:30 PMShow: 6:30 PM \n\nCelebrating the 50th Anniversary of Pink Floyd acclaimed concert film\, Live at Pompeii\, JT Curtis (of Broadway’s LET IT BE) will be leading a tribute through the band’s famous live set at the Pompeii amphitheater\, including their magnum opus “Echoes.” The band will also be performing songs from the album Pink Floyd was recording at the time the film was being made\, DARK SIDE OF THE MOON. Also featuring James Preston and Hector Lopez of Macwood Fleet and Dino Covelli of the Ricky Blues Band. \n\nALL AGES – there is a 2 item minimum per person 21+ for this event. \nFor those under 21\, there is a $25 pre-fixe menu requirement purchase per person that includes one entree item and unlimited soft drinks.
URL:https://dinocovelli.com/show/__trashed-67/
CATEGORIES:Live Show
END:VEVENT
BEGIN:VEVENT
DTSTART;TZID=America/New_York:20210724T000000
DTEND;TZID=America/New_York:20210724T000000
DTSTAMP:20260421T100115
CREATED:20250921T210230Z
LAST-MODIFIED:20250922T041502Z
UID:6383-1627084800-1627084800@dinocovelli.com
SUMMARY:Fire Island w/ Jake And The Mountain Men
DESCRIPTION:Jake And The Mountain Men will be back at The Sandbar on Fire Island on 7/24/2021!
URL:https://dinocovelli.com/show/__trashed-72/
CATEGORIES:Live Show
END:VEVENT
END:VCALENDAR